BEGIN:VCALENDAR
VERSION:2.0
PRODID:-//Polizei-Sport-Verein Berlin e.V. - ECPv6.15.20//NONSGML v1.0//EN
CALSCALE:GREGORIAN
METHOD:PUBLISH
X-ORIGINAL-URL:https://www.psv-berlin.de
X-WR-CALDESC:Veranstaltungen für Polizei-Sport-Verein Berlin e.V.
REFRESH-INTERVAL;VALUE=DURATION:PT1H
X-Robots-Tag:noindex
X-PUBLISHED-TTL:PT1H
BEGIN:VTIMEZONE
TZID:UTC
BEGIN:STANDARD
TZOFFSETFROM:+0000
TZOFFSETTO:+0000
TZNAME:UTC
DTSTART:20220101T000000
END:STANDARD
END:VTIMEZONE
BEGIN:VEVENT
DTSTART;TZID=UTC:20231027T100000
DTEND;TZID=UTC:20231106T100000
DTSTAMP:20260421T193850
CREATED:20231105T123138Z
LAST-MODIFIED:20231106T104302Z
UID:1701-1698400800-1699264800@www.psv-berlin.de
SUMMARY:1. Lauf SIM-Winterpokal
DESCRIPTION:
URL:https://www.psv-berlin.de/event/1-lauf-winterpokal/
LOCATION:Assetto Corsa
END:VEVENT
END:VCALENDAR